BEGIN:VCALENDAR
VERSION:2.0
PRODID:-//Lawyers Association for Women – Nashville - ECPv6.15.20//NONSGML v1.0//EN
CALSCALE:GREGORIAN
METHOD:PUBLISH
X-WR-CALNAME:Lawyers Association for Women – Nashville
X-ORIGINAL-URL:https://www.law-nashville.org
X-WR-CALDESC:Events for Lawyers Association for Women – Nashville
REFRESH-INTERVAL;VALUE=DURATION:PT1H
X-Robots-Tag:noindex
X-PUBLISHED-TTL:PT1H
BEGIN:VTIMEZONE
TZID:UTC
BEGIN:STANDARD
TZOFFSETFROM:+0000
TZOFFSETTO:+0000
TZNAME:UTC
DTSTART:20180101T000000
END:STANDARD
END:VTIMEZONE
BEGIN:VEVENT
DTSTART;VALUE=DATE:20200625
DTEND;VALUE=DATE:20200626
DTSTAMP:20260420T083637
CREATED:20251106T220833Z
LAST-MODIFIED:20251106T220833Z
UID:10000168-1593043200-1593129599@www.law-nashville.org
SUMMARY:Virtual One Hour General Credit CLE via Zoom "(Not Always) Safer at Home: Domestic Violence and Child Abuse in Times of a Pandemic"
DESCRIPTION:
URL:https://www.law-nashville.org/event/virtual-one-hour-general-credit-cle-via-zoom-not-always-safer-at-home-domestic-violence-and-child-abuse-in-times-of-a-pandemic/
END:VEVENT
BEGIN:VEVENT
DTSTART;VALUE=DATE:20200617
DTEND;VALUE=DATE:20200618
DTSTAMP:20260420T083637
CREATED:20251106T220814Z
LAST-MODIFIED:20251106T220814Z
UID:10000167-1592352000-1592438399@www.law-nashville.org
SUMMARY:Virtual One Hour Dual Credit CLE via Zoom "Survival Skills for 2020 and Beyond"
DESCRIPTION:
URL:https://www.law-nashville.org/event/virtual-one-hour-dual-credit-cle-via-zoom-survival-skills-for-2020-and-beyond/
END:VEVENT
BEGIN:VEVENT
DTSTART;VALUE=DATE:20200521
DTEND;VALUE=DATE:20200522
DTSTAMP:20260420T083637
CREATED:20251106T220757Z
LAST-MODIFIED:20251106T220757Z
UID:10000166-1590019200-1590105599@www.law-nashville.org
SUMMARY:Updated: Virtual May Membership Meeting and One Hour Dual Credit CLE via Zoom "The Ethics of Being a Helper: How to Engage in Pro Bono Work from Your Home Office"
DESCRIPTION:
URL:https://www.law-nashville.org/event/updated-virtual-may-membership-meeting-and-one-hour-dual-credit-cle-via-zoom-the-ethics-of-being-a-helper-how-to-engage-in-pro-bono-work-from-your-home-office/
END:VEVENT
BEGIN:VEVENT
DTSTART;VALUE=DATE:20200519
DTEND;VALUE=DATE:20200520
DTSTAMP:20260420T083637
CREATED:20251106T220739Z
LAST-MODIFIED:20251106T220739Z
UID:10000165-1589846400-1589932799@www.law-nashville.org
SUMMARY:Annual Business Meeting (via telephone)
DESCRIPTION:
URL:https://www.law-nashville.org/event/annual-business-meeting-via-telephone/
END:VEVENT
BEGIN:VEVENT
DTSTART;VALUE=DATE:20200331
DTEND;VALUE=DATE:20200401
DTSTAMP:20260420T083637
CREATED:20251106T220721Z
LAST-MODIFIED:20251106T220721Z
UID:10000164-1585612800-1585699199@www.law-nashville.org
SUMMARY:Volunteer at The Women's Campus - Nashville Rescue Mission
DESCRIPTION:
URL:https://www.law-nashville.org/event/volunteer-at-the-womens-campus-nashville-rescue-mission/
END:VEVENT
BEGIN:VEVENT
DTSTART;VALUE=DATE:20200310
DTEND;VALUE=DATE:20200311
DTSTAMP:20260420T083637
CREATED:20251106T220706Z
LAST-MODIFIED:20251106T220706Z
UID:10000163-1583798400-1583884799@www.law-nashville.org
SUMMARY:Health & Wellness Book Club
DESCRIPTION:
URL:https://www.law-nashville.org/event/health-wellness-book-club/
END:VEVENT
BEGIN:VEVENT
DTSTART;VALUE=DATE:20200225
DTEND;VALUE=DATE:20200226
DTSTAMP:20260420T083637
CREATED:20251106T220648Z
LAST-MODIFIED:20251106T220648Z
UID:10000162-1582588800-1582675199@www.law-nashville.org
SUMMARY:Quarterly Lean-In Circle Meeting - Implicit Bias
DESCRIPTION:
URL:https://www.law-nashville.org/event/quarterly-lean-in-circle-meeting-implicit-bias/
END:VEVENT
BEGIN:VEVENT
DTSTART;VALUE=DATE:20200225
DTEND;VALUE=DATE:20200226
DTSTAMP:20260420T083637
CREATED:20251106T220631Z
LAST-MODIFIED:20251106T220631Z
UID:10000161-1582588800-1582675199@www.law-nashville.org
SUMMARY:Legislative Breakfast with WPCTN
DESCRIPTION:
URL:https://www.law-nashville.org/event/legislative-breakfast-with-wpctn/
END:VEVENT
BEGIN:VEVENT
DTSTART;VALUE=DATE:20200220
DTEND;VALUE=DATE:20200221
DTSTAMP:20260420T083637
CREATED:20251106T220613Z
LAST-MODIFIED:20251106T220613Z
UID:10000160-1582156800-1582243199@www.law-nashville.org
SUMMARY:City Winery Wine Tasting & Happy Hour
DESCRIPTION:
URL:https://www.law-nashville.org/event/city-winery-wine-tasting-happy-hour/
END:VEVENT
BEGIN:VEVENT
DTSTART;VALUE=DATE:20200218
DTEND;VALUE=DATE:20200219
DTSTAMP:20260420T083637
CREATED:20251106T220559Z
LAST-MODIFIED:20251106T220559Z
UID:10000159-1581984000-1582070399@www.law-nashville.org
SUMMARY:February Membership Meeting and One Hour Dual Credit CLE
DESCRIPTION:
URL:https://www.law-nashville.org/event/february-membership-meeting-and-one-hour-dual-credit-cle/
END:VEVENT
BEGIN:VEVENT
DTSTART;VALUE=DATE:20200211
DTEND;VALUE=DATE:20200212
DTSTAMP:20260420T083637
CREATED:20251106T220541Z
LAST-MODIFIED:20251106T220541Z
UID:10000158-1581379200-1581465599@www.law-nashville.org
SUMMARY:February Health & Wellness Book Club
DESCRIPTION:
URL:https://www.law-nashville.org/event/february-health-wellness-book-club/
END:VEVENT
BEGIN:VEVENT
DTSTART;VALUE=DATE:20200130
DTEND;VALUE=DATE:20200131
DTSTAMP:20260420T083637
CREATED:20251106T220515Z
LAST-MODIFIED:20251106T220515Z
UID:10000157-1580342400-1580428799@www.law-nashville.org
SUMMARY:January Networking Event
DESCRIPTION:
URL:https://www.law-nashville.org/event/january-networking-event/
END:VEVENT
BEGIN:VEVENT
DTSTART;VALUE=DATE:20200121
DTEND;VALUE=DATE:20200122
DTSTAMP:20260420T083637
CREATED:20251106T220453Z
LAST-MODIFIED:20251106T220453Z
UID:10000156-1579564800-1579651199@www.law-nashville.org
SUMMARY:January Membership Meeting and One Hour CLE
DESCRIPTION:
URL:https://www.law-nashville.org/event/january-membership-meeting-and-one-hour-cle/
END:VEVENT
BEGIN:VEVENT
DTSTART;VALUE=DATE:20200116
DTEND;VALUE=DATE:20200117
DTSTAMP:20260420T083637
CREATED:20251106T220438Z
LAST-MODIFIED:20251106T220438Z
UID:10000155-1579132800-1579219199@www.law-nashville.org
SUMMARY:Joint Diversity Committee/Napier-Looby Bar Association Student Membership Mixer
DESCRIPTION:
URL:https://www.law-nashville.org/event/joint-diversity-committee-napier-looby-bar-association-student-membership-mixer/
END:VEVENT
BEGIN:VEVENT
DTSTART;VALUE=DATE:20191212
DTEND;VALUE=DATE:20191213
DTSTAMP:20260420T083637
CREATED:20251106T223816Z
LAST-MODIFIED:20251106T223816Z
UID:10000216-1576108800-1576195199@www.law-nashville.org
SUMMARY:Holiday Mixer
DESCRIPTION:
URL:https://www.law-nashville.org/event/holiday-mixer/
END:VEVENT
BEGIN:VEVENT
DTSTART;VALUE=DATE:20191212
DTEND;VALUE=DATE:20191213
DTSTAMP:20260420T083637
CREATED:20251106T223759Z
LAST-MODIFIED:20251106T223759Z
UID:10000215-1576108800-1576195199@www.law-nashville.org
SUMMARY:Member Appreciation CLE
DESCRIPTION:
URL:https://www.law-nashville.org/event/member-appreciation-cle/
END:VEVENT
BEGIN:VEVENT
DTSTART;VALUE=DATE:20191119
DTEND;VALUE=DATE:20191120
DTSTAMP:20260420T083637
CREATED:20251106T223741Z
LAST-MODIFIED:20251106T223741Z
UID:10000214-1574121600-1574207999@www.law-nashville.org
SUMMARY:November Membership Meeting and One Hour Dual Credit CLE
DESCRIPTION:
URL:https://www.law-nashville.org/event/november-membership-meeting-and-one-hour-dual-credit-cle/
END:VEVENT
BEGIN:VEVENT
DTSTART;VALUE=DATE:20191114
DTEND;VALUE=DATE:20191115
DTSTAMP:20260420T083637
CREATED:20251106T223724Z
LAST-MODIFIED:20251106T223724Z
UID:10000213-1573689600-1573775999@www.law-nashville.org
SUMMARY:Networking Committee Trivia Night
DESCRIPTION:
URL:https://www.law-nashville.org/event/networking-committee-trivia-night/
END:VEVENT
BEGIN:VEVENT
DTSTART;VALUE=DATE:20191114
DTEND;VALUE=DATE:20191115
DTSTAMP:20260420T083637
CREATED:20251106T223708Z
LAST-MODIFIED:20251106T223708Z
UID:10000212-1573689600-1573775999@www.law-nashville.org
SUMMARY:Community Relations Volunteer Project at Thistle Farms
DESCRIPTION:
URL:https://www.law-nashville.org/event/community-relations-volunteer-project-at-thistle-farms/
END:VEVENT
BEGIN:VEVENT
DTSTART;VALUE=DATE:20191112
DTEND;VALUE=DATE:20191113
DTSTAMP:20260420T083637
CREATED:20251106T223651Z
LAST-MODIFIED:20251106T223651Z
UID:10000211-1573516800-1573603199@www.law-nashville.org
SUMMARY:Health & Wellness Book Club
DESCRIPTION:
URL:https://www.law-nashville.org/event/health-wellness-book-club-6/
END:VEVENT
BEGIN:VEVENT
DTSTART;VALUE=DATE:20191107
DTEND;VALUE=DATE:20191108
DTSTAMP:20260420T083637
CREATED:20251106T223637Z
LAST-MODIFIED:20251106T223637Z
UID:10000210-1573084800-1573171199@www.law-nashville.org
SUMMARY:Annual New Admittees' Breakfast
DESCRIPTION:
URL:https://www.law-nashville.org/event/annual-new-admittees-breakfast-2/
END:VEVENT
BEGIN:VEVENT
DTSTART;VALUE=DATE:20191029
DTEND;VALUE=DATE:20191030
DTSTAMP:20260420T083637
CREATED:20251106T223619Z
LAST-MODIFIED:20251106T223619Z
UID:10000209-1572307200-1572393599@www.law-nashville.org
SUMMARY:Quarterly Lean-In Circle Meeting - "The Great Balancing Act"
DESCRIPTION:
URL:https://www.law-nashville.org/event/quarterly-lean-in-circle-meeting-the-great-balancing-act/
END:VEVENT
BEGIN:VEVENT
DTSTART;VALUE=DATE:20191024
DTEND;VALUE=DATE:20191025
DTSTAMP:20260420T083637
CREATED:20251106T223552Z
LAST-MODIFIED:20251106T223552Z
UID:10000208-1571875200-1571961599@www.law-nashville.org
SUMMARY:Joint Practicing Parents and Networking Event
DESCRIPTION:
URL:https://www.law-nashville.org/event/joint-practicing-parents-and-networking-event/
END:VEVENT
BEGIN:VEVENT
DTSTART;VALUE=DATE:20191015
DTEND;VALUE=DATE:20191016
DTSTAMP:20260420T083637
CREATED:20251106T223533Z
LAST-MODIFIED:20251106T223533Z
UID:10000207-1571097600-1571183999@www.law-nashville.org
SUMMARY:October Membership Meeting and One Hour General Credit CLE
DESCRIPTION:
URL:https://www.law-nashville.org/event/october-membership-meeting-and-one-hour-general-credit-cle/
END:VEVENT
BEGIN:VEVENT
DTSTART;VALUE=DATE:20191007
DTEND;VALUE=DATE:20191008
DTSTAMP:20260420T083637
CREATED:20251106T223516Z
LAST-MODIFIED:20251106T223516Z
UID:10000206-1570406400-1570492799@www.law-nashville.org
SUMMARY:Health & Wellness Book Club
DESCRIPTION:
URL:https://www.law-nashville.org/event/health-wellness-book-club-5/
END:VEVENT
BEGIN:VEVENT
DTSTART;VALUE=DATE:20190920
DTEND;VALUE=DATE:20190921
DTSTAMP:20260420T083637
CREATED:20251106T223500Z
LAST-MODIFIED:20251106T223500Z
UID:10000205-1568937600-1569023999@www.law-nashville.org
SUMMARY:Marion Griffin Women's Symposium
DESCRIPTION:
URL:https://www.law-nashville.org/event/marion-griffin-womens-symposium/
END:VEVENT
BEGIN:VEVENT
DTSTART;VALUE=DATE:20190910
DTEND;VALUE=DATE:20190911
DTSTAMP:20260420T083637
CREATED:20251106T223443Z
LAST-MODIFIED:20251106T223443Z
UID:10000204-1568073600-1568159999@www.law-nashville.org
SUMMARY:Health & Wellness Book Club
DESCRIPTION:
URL:https://www.law-nashville.org/event/health-wellness-book-club-4/
END:VEVENT
BEGIN:VEVENT
DTSTART;VALUE=DATE:20190827
DTEND;VALUE=DATE:20190828
DTSTAMP:20260420T083637
CREATED:20251106T223428Z
LAST-MODIFIED:20251106T223428Z
UID:10000203-1566864000-1566950399@www.law-nashville.org
SUMMARY:Lean-In Circle "Climbing the Law Ladder in Heels"
DESCRIPTION:
URL:https://www.law-nashville.org/event/lean-in-circle-climbing-the-law-ladder-in-heels/
END:VEVENT
BEGIN:VEVENT
DTSTART;VALUE=DATE:20190820
DTEND;VALUE=DATE:20190821
DTSTAMP:20260420T083637
CREATED:20251106T223413Z
LAST-MODIFIED:20251106T223413Z
UID:10000202-1566259200-1566345599@www.law-nashville.org
SUMMARY:August Membership Meeting and One Hour General Credit CLE
DESCRIPTION:
URL:https://www.law-nashville.org/event/august-membership-meeting-and-one-hour-general-credit-cle/
END:VEVENT
BEGIN:VEVENT
DTSTART;VALUE=DATE:20190808
DTEND;VALUE=DATE:20190809
DTSTAMP:20260420T083637
CREATED:20251106T223357Z
LAST-MODIFIED:20251106T223357Z
UID:10000201-1565222400-1565308799@www.law-nashville.org
SUMMARY:After The Bar Networking Happy Hour
DESCRIPTION:
URL:https://www.law-nashville.org/event/after-the-bar-networking-happy-hour/
END:VEVENT
END:VCALENDAR