BEGIN:VCALENDAR
VERSION:2.0
PRODID:-//Lawyers Association for Women – Nashville - ECPv6.15.20//NONSGML v1.0//EN
CALSCALE:GREGORIAN
METHOD:PUBLISH
X-ORIGINAL-URL:https://www.law-nashville.org
X-WR-CALDESC:Events for Lawyers Association for Women – Nashville
REFRESH-INTERVAL;VALUE=DURATION:PT1H
X-Robots-Tag:noindex
X-PUBLISHED-TTL:PT1H
BEGIN:VTIMEZONE
TZID:America/New_York
BEGIN:DAYLIGHT
TZOFFSETFROM:-0500
TZOFFSETTO:-0400
TZNAME:EDT
DTSTART:20250309T070000
END:DAYLIGHT
BEGIN:STANDARD
TZOFFSETFROM:-0400
TZOFFSETTO:-0500
TZNAME:EST
DTSTART:20251102T060000
END:STANDARD
BEGIN:DAYLIGHT
TZOFFSETFROM:-0500
TZOFFSETTO:-0400
TZNAME:EDT
DTSTART:20260308T070000
END:DAYLIGHT
BEGIN:STANDARD
TZOFFSETFROM:-0400
TZOFFSETTO:-0500
TZNAME:EST
DTSTART:20261101T060000
END:STANDARD
BEGIN:DAYLIGHT
TZOFFSETFROM:-0500
TZOFFSETTO:-0400
TZNAME:EDT
DTSTART:20270314T070000
END:DAYLIGHT
BEGIN:STANDARD
TZOFFSETFROM:-0400
TZOFFSETTO:-0500
TZNAME:EST
DTSTART:20271107T060000
END:STANDARD
END:VTIMEZONE
BEGIN:VEVENT
DTSTART;TZID=America/New_York:20260304T193000
DTEND;TZID=America/New_York:20260304T210000
DTSTAMP:20260419T084858
CREATED:20260112T192813Z
LAST-MODIFIED:20260415T200306Z
UID:10000256-1772652600-1772658000@www.law-nashville.org
SUMMARY:Suffs the musical
DESCRIPTION:SUFFS The Musical & CLE \nDATE: March 4\, 2026 \nTIME: 7:30 pm show time \nLOCATION: TPAC\, 505 Deaderick St\, Nashville\, TN 37243 \nCLE: Available through NBA on March 5\, 2026 – see their website for registration details and ticket options \nLAW TPAC TICKET COST: $75 – *ALL TICKETS WILL BE PICKED UP AT THE TPAC BOX OFFICE \nLAW Steps Out to See SUFFS: The Musical on March 4 \nLAW and the Nashville Bar Association are proud to partner for this special show and CLE course – SUFFS & Suffrage: The Law\, Advocacy\, and the Fight for Women’s Rights. \nLAW has reserved FIFTEEN (15) tickets together in Row U of the Front Balcony for the show at 7:30 pm on Wednesday\, March 4th. Tickets are $75 and are available for LAW or NBA members. \nAll tickets will be held for pick up at the TPAC box office. LAW will meet upstairs before the show in the Tier Lobby before taking our seats. \nThen\, join us for a reception hosted by NBA on Thursday\, March 5th for a second group showing and CLE course. Registration for the CLE can be found on NBA’s standard registration page. Attendees may choose to sign up for the March 5th show if that date works better for them. \nNBA will also be recording the CLE and adding it to their On‑Demand catalog so that participants have the flexibility to view it at a later time. CLE and reception rates for this event will be the same for both NBA members and LAW members. \nLink to NBA Registration Page:  https://www.nashvillebar.org/?pg=events&evAction=showDetail&eid=317981&evSubAction=listAll
URL:https://www.law-nashville.org/event/suffs-the-musical/
LOCATION:Tennessee Performing Arts Center
ATTACH;FMTTYPE=image/png:https://www.law-nashville.org/wp-content/uploads/2026/01/Suffs-the-Musical-SOCIAL.png
END:VEVENT
END:VCALENDAR